BEGIN:VCALENDAR
VERSION:2.0
PRODID:-//Casa Rudolf Steiner - ECPv6.15.20//NONSGML v1.0//EN
CALSCALE:GREGORIAN
METHOD:PUBLISH
X-WR-CALNAME:Casa Rudolf Steiner
X-ORIGINAL-URL:https://casarudolfsteiner.com
X-WR-CALDESC:Eventos para Casa Rudolf Steiner
REFRESH-INTERVAL;VALUE=DURATION:PT1H
X-Robots-Tag:noindex
X-PUBLISHED-TTL:PT1H
BEGIN:VTIMEZONE
TZID:UTC
BEGIN:STANDARD
TZOFFSETFROM:+0000
TZOFFSETTO:+0000
TZNAME:UTC
DTSTART:20250101T000000
END:STANDARD
END:VTIMEZONE
BEGIN:VEVENT
DTSTART;TZID=UTC:20260509T093000
DTEND;TZID=UTC:20260509T133000
DTSTAMP:20260421T164258
CREATED:20260420T144325Z
LAST-MODIFIED:20260420T144326Z
UID:2075-1778319000-1778333400@casarudolfsteiner.com
SUMMARY:La alegría en mi infancia como reflejo en mi vida adulta
DESCRIPTION:
URL:https://casarudolfsteiner.com/evento/la-alegria-en-mi-infancia-como-reflejo-en-mi-vida-adulta/
ATTACH;FMTTYPE=image/jpeg:https://casarudolfsteiner.com/wp-content/uploads/2026/04/6065bd50-b293-454d-bfa7-3ff6fb657f3d.jpeg
END:VEVENT
END:VCALENDAR